BEGIN:VCALENDAR
VERSION:2.0
PRODID:-//Veranda Events - ECPv6.15.13//NONSGML v1.0//EN
CALSCALE:GREGORIAN
METHOD:PUBLISH
X-ORIGINAL-URL:https://www.verandaevents.nl
X-WR-CALDESC:Events for Veranda Events
REFRESH-INTERVAL;VALUE=DURATION:PT1H
X-Robots-Tag:noindex
X-PUBLISHED-TTL:PT1H
BEGIN:VTIMEZONE
TZID:Europe/Amsterdam
BEGIN:DAYLIGHT
TZOFFSETFROM:+0100
TZOFFSETTO:+0200
TZNAME:CEST
DTSTART:20240331T010000
END:DAYLIGHT
BEGIN:STANDARD
TZOFFSETFROM:+0200
TZOFFSETTO:+0100
TZNAME:CET
DTSTART:20241027T010000
END:STANDARD
BEGIN:DAYLIGHT
TZOFFSETFROM:+0100
TZOFFSETTO:+0200
TZNAME:CEST
DTSTART:20250330T010000
END:DAYLIGHT
BEGIN:STANDARD
TZOFFSETFROM:+0200
TZOFFSETTO:+0100
TZNAME:CET
DTSTART:20251026T010000
END:STANDARD
BEGIN:DAYLIGHT
TZOFFSETFROM:+0100
TZOFFSETTO:+0200
TZNAME:CEST
DTSTART:20260329T010000
END:DAYLIGHT
BEGIN:STANDARD
TZOFFSETFROM:+0200
TZOFFSETTO:+0100
TZNAME:CET
DTSTART:20261025T010000
END:STANDARD
END:VTIMEZONE
BEGIN:VEVENT
DTSTART;TZID=Europe/Amsterdam:20250726T130000
DTEND;TZID=Europe/Amsterdam:20250726T230000
DTSTAMP:20260421T012208
CREATED:20250105T043414Z
LAST-MODIFIED:20250106T112632Z
UID:10000035-1753534800-1753570800@www.verandaevents.nl
SUMMARY:Uptempo And You Know It
DESCRIPTION:
URL:https://www.verandaevents.nl/event/uptempoandyouknowit/
LOCATION:Eden Evenementlocatie Breda\, Rijsbergsebaan 9\, Breda\, Noord-Brabant\, 4836 MC\, Netherlands
ATTACH;FMTTYPE=image/jpeg:https://www.verandaevents.nl/wp-content/uploads/2025/01/453171282_463800373083078_7605512024489547254_n.jpg
END:VEVENT
END:VCALENDAR