BEGIN:VCALENDAR
VERSION:2.0
PRODID:-//Veranda Events - ECPv6.15.13//NONSGML v1.0//EN
CALSCALE:GREGORIAN
METHOD:PUBLISH
X-WR-CALNAME:Veranda Events
X-ORIGINAL-URL:https://www.verandaevents.nl
X-WR-CALDESC:Events for Veranda Events
REFRESH-INTERVAL;VALUE=DURATION:PT1H
X-Robots-Tag:noindex
X-PUBLISHED-TTL:PT1H
BEGIN:VTIMEZONE
TZID:Europe/Amsterdam
BEGIN:DAYLIGHT
TZOFFSETFROM:+0100
TZOFFSETTO:+0200
TZNAME:CEST
DTSTART:20250330T010000
END:DAYLIGHT
BEGIN:STANDARD
TZOFFSETFROM:+0200
TZOFFSETTO:+0100
TZNAME:CET
DTSTART:20251026T010000
END:STANDARD
BEGIN:DAYLIGHT
TZOFFSETFROM:+0100
TZOFFSETTO:+0200
TZNAME:CEST
DTSTART:20260329T010000
END:DAYLIGHT
BEGIN:STANDARD
TZOFFSETFROM:+0200
TZOFFSETTO:+0100
TZNAME:CET
DTSTART:20261025T010000
END:STANDARD
BEGIN:DAYLIGHT
TZOFFSETFROM:+0100
TZOFFSETTO:+0200
TZNAME:CEST
DTSTART:20270328T010000
END:DAYLIGHT
BEGIN:STANDARD
TZOFFSETFROM:+0200
TZOFFSETTO:+0100
TZNAME:CET
DTSTART:20271031T010000
END:STANDARD
END:VTIMEZONE
BEGIN:VEVENT
DTSTART;TZID=Europe/Amsterdam:20260405T140000
DTEND;TZID=Europe/Amsterdam:20260405T230000
DTSTAMP:20260420T171556
CREATED:20251230T155607Z
LAST-MODIFIED:20260102T163455Z
UID:10000045-1775397600-1775430000@www.verandaevents.nl
SUMMARY:Uptempo And You Know It Easter Special
DESCRIPTION:Pendelbus \nGeen zin om zelf te rijden?\nKlik hier voor de pendelbus!
URL:https://www.verandaevents.nl/event/uayki26easter/
LOCATION:Eden Evenementlocatie Breda\, Rijsbergsebaan 9\, Breda\, Noord-Brabant\, 4836 MC\, Netherlands
ATTACH;FMTTYPE=image/png:https://www.verandaevents.nl/wp-content/uploads/2025/12/Ontwerp-zonder-titel-39.png
END:VEVENT
BEGIN:VEVENT
DTSTART;TZID=Europe/Amsterdam:20260725T120000
DTEND;TZID=Europe/Amsterdam:20260725T220000
DTSTAMP:20260420T171556
CREATED:20251230T155813Z
LAST-MODIFIED:20260102T151642Z
UID:10000046-1784980800-1785016800@www.verandaevents.nl
SUMMARY:Uptempo And You Know It
DESCRIPTION:  \n \nPendelbus \nGeen zin om zelf te rijden?\nKlik hier voor de pendelbus!
URL:https://www.verandaevents.nl/event/uayki26/
LOCATION:Eden Evenementlocatie Breda\, Rijsbergsebaan 9\, Breda\, Noord-Brabant\, 4836 MC\, Netherlands
ATTACH;FMTTYPE=image/jpeg:https://www.verandaevents.nl/wp-content/uploads/2025/12/UPTEMPO_AND_YOU_KNOW_IT_FLYER_NOLINEUP_FB_BANNER-5.jpg
END:VEVENT
END:VCALENDAR